BEGIN:VCALENDAR
VERSION:2.0
PRODID: -//Q4 Inc.//EN
METHOD:PUBLISH
BEGIN:VTIMEZONE
TZID:America/New_York
X-LIC-LOCATION:America/New_York
BEGIN:DAYLIGHT
TZOFFSETFROM:-0500
TZOFFSETTO:-0400
TZNAME:EDT
DTSTART:19700308T020000
RRULE:FREQ=YEARLY;BYMONTH=3;BYDAY=2SU
END:DAYLIGHT
BEGIN:STANDARD
TZOFFSETFROM:-0400
TZOFFSETTO:-0500
TZNAME:EST
DTSTART:19701101T020000
RRULE:FREQ=YEARLY;BYMONTH=11;BYDAY=1SU
END:STANDARD
END:VTIMEZONE
BEGIN:VEVENT
ORGANIZER:MAILTO:no-reply@ebayinc.com
DTSTART;TZID="America/New_York":20230621T110000
DTEND;TZID="America/New_York":20230621T120000
LOCATION:Virtual
UID:7a67f5c1-20f5-4b5b-b270-fdf95463c63a
DTSTAMP:20260420T090856
SUMMARY:eBay Inc. Annual Meeting of Shareholders
DESCRIPTION: View More Information: https://investors.ebayinc.com/events/event-details/2023/eBay-Inc-Annual-Meeting-of-Shareholders-2023-pvZfUhI_LG/default.aspx
URL;VALUE=URI:https://investors.ebayinc.com/events/event-details/2023/eBay-Inc-Annual-Meeting-of-Shareholders-2023-pvZfUhI_LG/default.aspx
PRIORITY:5
CLASS:PUBLIC
END:VEVENT
END:VCALENDAR
